BEGIN:VCALENDAR
VERSION:2.0
PRODID:-//Tukios.com/
BEGIN:VEVENT
UID:ac0d956c-1401-42dc-8bd8-537981c1043f@www.higginsfunerals.com
DTSTAMP:20260420T160533Z
DTSTART:20260422T150000Z
DTEND:20260422T160000Z
SUMMARY:Graveside Service
DESCRIPTION:
URL:https://www.higginsfunerals.com/obituaries/peggy-alford
LOCATION:Benton Station Baptist Church Cemetery 909 Benton Station Rd  
	Benton TN 37307
GEO:35.186821;-84.68481
END:VEVENT
END:VCALENDAR