BEGIN:VCALENDAR
VERSION:2.0
PRODID:-//Tukios.com/
BEGIN:VEVENT
UID:16f0a3cd-4c39-4229-abce-67be9ba57992@www.higginsfunerals.com
DTSTAMP:20260420T160553Z
DTSTART:20260421T230000Z
DTEND:20260422T000000Z
SUMMARY:Celebration of Life
DESCRIPTION:
URL:https://www.higginsfunerals.com/obituaries/peggy-alford
LOCATION: 6439 US-411  Benton TN 37307
GEO:35.1795566;-84.6475197
END:VEVENT
END:VCALENDAR