BEGIN:VCALENDAR
VERSION:2.0
PRODID:-//Tukios.com/
BEGIN:VEVENT
UID:8aa15f57-fe36-4e0f-80a8-6df0228e468c@www.higginsfunerals.com
DTSTAMP:20260420T160108Z
DTSTART:20260421T210000Z
DTEND:20260421T230000Z
SUMMARY:Visitation
DESCRIPTION:
URL:https://www.higginsfunerals.com/obituaries/peggy-alford
LOCATION: 6439 US-411  Benton TN 37307
GEO:35.1795566;-84.6475197
END:VEVENT
END:VCALENDAR